{
 "currentVersion": 10.91,
 "cimVersion": "2.9.0",
 "serviceDescription": "Mapa de Servidumbres del Plan General Municipal 2013 del Término Municipal de A Coruña",
 "mapName": "PGM13_WMTS_08SERV",
 "description": "Mapa de Servidumbres del Plan General Municipal 2013 del Término Municipal de A Coruña",
 "copyrightText": "AYUNTAMIENTO DE A CORUÑA / CONCELLO DA CORUÑA",
 "supportsDynamicLayers": true,
 "layers": [
  {
   "id": 0,
   "name": "LIMITE TERMINO MUNICIPAL",
   "parentLayerId": -1,
   "defaultVisibility": true,
   "subLayerIds": null,
   "minScale": 100000,
   "maxScale": 0,
   "type": "Feature Layer",
   "geometryType": "esriGeometryPolyline",
   "supportsDynamicLegends": true
  },
  {
   "id": 1,
   "name": "CATALOGO",
   "parentLayerId": -1,
   "defaultVisibility": true,
   "subLayerIds": null,
   "minScale": 100000,
   "maxScale": 0,
   "type": "Feature Layer",
   "geometryType": "esriGeometryPolygon",
   "supportsDynamicLegends": true
  },
  {
   "id": 2,
   "name": "CLASIFICACION DEL SUELO",
   "parentLayerId": -1,
   "defaultVisibility": true,
   "subLayerIds": null,
   "minScale": 100000,
   "maxScale": 0,
   "type": "Feature Layer",
   "geometryType": "esriGeometryPolygon",
   "supportsDynamicLegends": true
  },
  {
   "id": 3,
   "name": "SERVIDUMBRE DE COSTAS",
   "parentLayerId": -1,
   "defaultVisibility": true,
   "subLayerIds": null,
   "minScale": 100000,
   "maxScale": 0,
   "type": "Feature Layer",
   "geometryType": "esriGeometryPolygon",
   "supportsDynamicLegends": true
  },
  {
   "id": 4,
   "name": "SERVIDUMBRE (LINEA)",
   "parentLayerId": -1,
   "defaultVisibility": true,
   "subLayerIds": null,
   "minScale": 100000,
   "maxScale": 0,
   "type": "Feature Layer",
   "geometryType": "esriGeometryPolyline",
   "supportsDynamicLegends": true
  },
  {
   "id": 5,
   "name": "SERVIDUMBRE",
   "parentLayerId": -1,
   "defaultVisibility": true,
   "subLayerIds": null,
   "minScale": 100000,
   "maxScale": 0,
   "type": "Feature Layer",
   "geometryType": "esriGeometryPolygon",
   "supportsDynamicLegends": true
  }
 ],
 "tables": [],
 "spatialReference": {
  "wkid": 25829,
  "latestWkid": 25829,
  "xyTolerance": 0.001,
  "zTolerance": 0.001,
  "mTolerance": 0.001,
  "falseX": -5120900,
  "falseY": -9998100,
  "xyUnits": 4.504455473910538E8,
  "falseZ": -100000,
  "zUnits": 10000,
  "falseM": -100000,
  "mUnits": 10000
 },
 "singleFusedMapCache": true,
 "tileInfo": {
  "rows": 256,
  "cols": 256,
  "dpi": 96,
  "format": "PNG",
  "compressionQuality": 0,
  "origin": {
   "x": -5120900,
   "y": 9998100
  },
  "spatialReference": {
   "wkid": 25829,
   "latestWkid": 25829,
   "xyTolerance": 0.001,
   "zTolerance": 0.001,
   "mTolerance": 0.001,
   "falseX": -5120900,
   "falseY": -9998100,
   "xyUnits": 4.504455473910538E8,
   "falseZ": -100000,
   "zUnits": 10000,
   "falseM": -100000,
   "mUnits": 10000
  },
  "lods": [
   {
    "level": 0,
    "resolution": 5.291941833883668,
    "scale": 20001
   },
   {
    "level": 1,
    "resolution": 5.291677250021167,
    "scale": 20000
   },
   {
    "level": 2,
    "resolution": 3.9687579375158752,
    "scale": 15000
   },
   {
    "level": 3,
    "resolution": 2.6458386250105836,
    "scale": 10000
   },
   {
    "level": 4,
    "resolution": 1.3231838963677929,
    "scale": 5001
   },
   {
    "level": 5,
    "resolution": 1.3229193125052918,
    "scale": 5000
   },
   {
    "level": 6,
    "resolution": 0.9260435187537043,
    "scale": 3500
   },
   {
    "level": 7,
    "resolution": 0.5291677250021167,
    "scale": 2000
   },
   {
    "level": 8,
    "resolution": 0.5289031411396157,
    "scale": 1999
   }
  ]
 },
 "storageInfo": {
  "storageFormat": "esriMapCacheStorageModeCompactV2",
  "packetSize": 128
 },
 "initialExtent": {
  "xmin": 541080.6744595551,
  "ymin": 4796695.026355165,
  "xmax": 553505.5326426049,
  "ymax": 4805423.846264913,
  "spatialReference": {
   "wkid": 25829,
   "latestWkid": 25829,
   "xyTolerance": 0.001,
   "zTolerance": 0.001,
   "mTolerance": 0.001,
   "falseX": -5120900,
   "falseY": -9998100,
   "xyUnits": 4.504455473910538E8,
   "falseZ": -100000,
   "zUnits": 10000,
   "falseM": -100000,
   "mUnits": 10000
  }
 },
 "fullExtent": {
  "xmin": 505508.7123,
  "ymin": 4748321.3032,
  "xmax": 564125.3714,
  "ymax": 4816994.7227,
  "spatialReference": {
   "wkid": 25829,
   "latestWkid": 25829,
   "xyTolerance": 0.001,
   "zTolerance": 0.001,
   "mTolerance": 0.001,
   "falseX": -5120900,
   "falseY": -9998100,
   "xyUnits": 4.504455473910538E8,
   "falseZ": -100000,
   "zUnits": 10000,
   "falseM": -100000,
   "mUnits": 10000
  }
 },
 "datesInUnknownTimezone": false,
 "minScale": 20000,
 "maxScale": 2000,
 "minLOD": 0,
 "maxLOD": 0,
 "units": "esriMeters",
 "supportedImageFormatTypes": "PNG32,PNG24,PNG,JPG,DIB,TIFF,EMF,PS,PDF,GIF,SVG,SVGZ,BMP",
 "documentInfo": {
  "Title": "Mapa de Servidumbres (PGM13) del Término Municipal de A Coruña",
  "Author": "",
  "Comments": "Mapa de Servidumbres del Plan General Municipal 2013 del Término Municipal de A Coruña",
  "Subject": "Mapa de Servidumbres del Plan General Municipal 2013 del Término Municipal de A Coruña",
  "Category": "",
  "AntialiasingMode": "Fast",
  "TextAntialiasingMode": "Force",
  "Version": "2.9.0",
  "Keywords": "08_SERVIDUMBRES"
 },
 "supportsQueryDomains": true,
 "capabilities": "Map,Query,Data",
 "supportedQueryFormats": "JSON, geoJSON, PBF",
 "hasVersionedData": true,
 "exportTilesAllowed": false,
 "referenceScale": 0.0,
 "supportsDatumTransformation": true,
 "archivingInfo": {
  "supportsHistoricMoment": false
 },
 "supportsClipping": true,
 "supportsSpatialFilter": true,
 "supportsTimeRelation": true,
 "supportsQueryDataElements": true,
 "maxRecordCount": 2000,
 "maxImageHeight": 4096,
 "maxImageWidth": 4096,
 "supportedExtensions": "WMSServer",
 "resampling": false,
 "serviceItemId": "3783d7770f9e4ff7be0648dc7e8223d2"
}
