{
 "currentVersion": 10.91,
 "cimVersion": "2.9.0",
 "serviceDescription": "",
 "mapName": "RB_CARTO1963_5000",
 "description": "",
 "copyrightText": "",
 "supportsDynamicLayers": true,
 "layers": [
  {
   "id": 0,
   "name": "CARTOH.RH_CARTO1963_5000",
   "parentLayerId": -1,
   "defaultVisibility": true,
   "subLayerIds": [
    1,
    2,
    3
   ],
   "minScale": 25000,
   "maxScale": 4500,
   "type": "Mosaic Layer",
   "supportsDynamicLegends": false
  },
  {
   "id": 1,
   "name": "Boundary",
   "parentLayerId": 0,
   "defaultVisibility": false,
   "subLayerIds": null,
   "minScale": 0,
   "maxScale": 0,
   "type": "Feature Layer",
   "geometryType": "esriGeometryPolygon",
   "supportsDynamicLegends": true
  },
  {
   "id": 2,
   "name": "Footprint",
   "parentLayerId": 0,
   "defaultVisibility": false,
   "subLayerIds": null,
   "minScale": 0,
   "maxScale": 0,
   "type": "Feature Layer",
   "geometryType": "esriGeometryPolygon",
   "supportsDynamicLegends": true
  },
  {
   "id": 3,
   "name": "Image",
   "parentLayerId": 0,
   "defaultVisibility": true,
   "subLayerIds": null,
   "minScale": 0,
   "maxScale": 0,
   "type": "Raster Layer",
   "supportsDynamicLegends": true
  }
 ],
 "tables": [],
 "spatialReference": {
  "wkid": 25829,
  "latestWkid": 25829,
  "xyTolerance": 0.001,
  "zTolerance": 0.001,
  "mTolerance": 0.001,
  "falseX": -5120900,
  "falseY": -9998100,
  "xyUnits": 10000,
  "falseZ": -100000,
  "zUnits": 10000,
  "falseM": -100000,
  "mUnits": 10000
 },
 "singleFusedMapCache": true,
 "tileInfo": {
  "rows": 256,
  "cols": 256,
  "dpi": 96,
  "format": "Mixed",
  "compressionQuality": 75,
  "origin": {
   "x": -9497963.942936342,
   "y": 9997963.942936342
  },
  "spatialReference": {
   "wkid": 25829,
   "latestWkid": 25829,
   "xyTolerance": 0.001,
   "zTolerance": 0.001,
   "mTolerance": 0.001,
   "falseX": -5120900,
   "falseY": -9998100,
   "xyUnits": 10000,
   "falseZ": -100000,
   "zUnits": 10000,
   "falseM": -100000,
   "mUnits": 10000
  },
  "lods": [
   {
    "level": 0,
    "resolution": 78109.09330419017,
    "scale": 2.952154707559943E8
   },
   {
    "level": 1,
    "resolution": 39054.54665209509,
    "scale": 1.4760773537799716E8
   },
   {
    "level": 2,
    "resolution": 19527.273326047543,
    "scale": 7.380386768899858E7
   },
   {
    "level": 3,
    "resolution": 9763.636663023772,
    "scale": 3.690193384449929E7
   },
   {
    "level": 4,
    "resolution": 4881.818331511886,
    "scale": 1.8450966922249645E7
   },
   {
    "level": 5,
    "resolution": 2440.909165755943,
    "scale": 9225483.461124822
   },
   {
    "level": 6,
    "resolution": 1220.4545828779715,
    "scale": 4612741.730562411
   },
   {
    "level": 7,
    "resolution": 610.2272914389857,
    "scale": 2306370.8652812056
   },
   {
    "level": 8,
    "resolution": 305.11364571949287,
    "scale": 1153185.4326406028
   },
   {
    "level": 9,
    "resolution": 152.55682285974643,
    "scale": 576592.7163203014
   },
   {
    "level": 10,
    "resolution": 76.27841142987322,
    "scale": 288296.3581601507
   },
   {
    "level": 11,
    "resolution": 38.13920571493661,
    "scale": 144148.17908007535
   },
   {
    "level": 12,
    "resolution": 19.069602857468304,
    "scale": 72074.08954003768
   },
   {
    "level": 13,
    "resolution": 9.534801428734152,
    "scale": 36037.04477001884
   },
   {
    "level": 14,
    "resolution": 4.767400714367076,
    "scale": 18018.52238500942
   },
   {
    "level": 15,
    "resolution": 2.383700357183538,
    "scale": 9009.26119250471
   },
   {
    "level": 16,
    "resolution": 1.191850178591769,
    "scale": 4504.630596252355
   },
   {
    "level": 17,
    "resolution": 0.5959250892958845,
    "scale": 2252.3152981261774
   },
   {
    "level": 18,
    "resolution": 0.29796254464794225,
    "scale": 1126.1576490630887
   }
  ]
 },
 "storageInfo": {
  "storageFormat": "esriMapCacheStorageModeCompactV2",
  "packetSize": 128
 },
 "initialExtent": {
  "xmin": 544002.2751785377,
  "ymin": 4797565.551495091,
  "xmax": 547600.6157085521,
  "ymax": 4801618.976268607,
  "spatialReference": {
   "wkid": 25829,
   "latestWkid": 25829,
   "xyTolerance": 0.001,
   "zTolerance": 0.001,
   "mTolerance": 0.001,
   "falseX": -5120900,
   "falseY": -9998100,
   "xyUnits": 10000,
   "falseZ": -100000,
   "zUnits": 10000,
   "falseM": -100000,
   "mUnits": 10000
  }
 },
 "fullExtent": {
  "xmin": 536688.6071870897,
  "ymin": 4792197.225956701,
  "xmax": 554914.2837,
  "ymax": 4804976.464451989,
  "spatialReference": {
   "wkid": 25829,
   "latestWkid": 25829,
   "xyTolerance": 0.001,
   "zTolerance": 0.001,
   "mTolerance": 0.001,
   "falseX": -5120900,
   "falseY": -9998100,
   "xyUnits": 10000,
   "falseZ": -100000,
   "zUnits": 10000,
   "falseM": -100000,
   "mUnits": 10000
  }
 },
 "datesInUnknownTimezone": false,
 "minScale": 64000,
 "maxScale": 500,
 "minLOD": 0,
 "maxLOD": 1,
 "units": "esriMeters",
 "supportedImageFormatTypes": "PNG32,PNG24,PNG,JPG,DIB,TIFF,EMF,PS,PDF,GIF,SVG,SVGZ,BMP",
 "documentInfo": {
  "Title": "ConexionOracle.aprx",
  "Author": "",
  "Comments": "",
  "Subject": "",
  "Category": "",
  "AntialiasingMode": "None",
  "TextAntialiasingMode": "Force",
  "Version": "2.9.0",
  "Keywords": "RB_CARTO1963_5000"
 },
 "capabilities": "Map,Query,Data",
 "supportedQueryFormats": "JSON, geoJSON, PBF",
 "exportTilesAllowed": false,
 "referenceScale": 0.0,
 "supportsDatumTransformation": true,
 "archivingInfo": {
  "supportsHistoricMoment": false
 },
 "supportsClipping": true,
 "supportsSpatialFilter": true,
 "supportsTimeRelation": true,
 "supportsQueryDataElements": true,
 "maxRecordCount": 2000,
 "maxImageHeight": 4096,
 "maxImageWidth": 4096,
 "supportedExtensions": "KmlServer",
 "resampling": false,
 "serviceItemId": "f90d6249511e4e1c8aafbe3286687547"
}
